BEGIN:VCALENDAR
PRODID:-//Cornell Cooperative Extension of Essex County//NONSGML Cornell Cooperative Extension of Essex County Events//EN
X-ORIGINAL-URL:
VERSION:2.0
CALSCALE:GREGORIAN
METHOD:PUBLISH
BEGIN:VEVENT
METHOD: PUBLISH
X-MS-OLK-FORCEINSPECTOROPEN:TRUE
DTSTART:20260424T121200
DTEND:20260424T150300
SUMMARY:Plant Giveaway
DTSTAMP:20110121T170000
LAST-MODIFIED:20260422T111156
CREATED:20260422T111156
SEQUENCE:0
TRANSP:TRANSPARENT
UID:32974
LOCATION:
URL:http://essex.cce.cornell.edu/events/2026/04/24/plant-giveaway
DESCRIPTION:Join us for our first plant giveaway in conjunction with the Soil and Water tree sale! Get a head start on your garden with free cold-hardy veggies and perennial flowers. Plus, get garden advice! Suggested donations welcome.
CLASS:PUBLIC
CATEGORIES:
STATUS:CONFIRMED
END:VEVENT
END:VCALENDAR
n/a