BEGIN:VCALENDAR
PRODID:-//Cornell Cooperative Extension of Essex County//NONSGML Cornell Cooperative Extension of Essex County Events//EN
X-ORIGINAL-URL:
VERSION:2.0
CALSCALE:GREGORIAN
METHOD:PUBLISH
BEGIN:VEVENT
METHOD: PUBLISH
X-MS-OLK-FORCEINSPECTOROPEN:TRUE
DTSTART:20260530T111100
DTEND:20260530T150300
SUMMARY:Plant Giveaway
DTSTAMP:20110121T170000
LAST-MODIFIED:20260423T231103
CREATED:20260423T231104
SEQUENCE:0
TRANSP:TRANSPARENT
UID:32986
LOCATION:
URL:http://essex.cce.cornell.edu/events/2026/05/30/plant-giveaway
DESCRIPTION:Come to the Cornell Cooperative Extension of Essex County&#39;s Free Plant Giveaway on May 30th at the Office in Westport from 11 AM- 3 PM!  Free vegetable seedlings Free annual &amp; perennial plants Free seed packets Free soil pH testing&#39;Ask a Master Gardener&#39; will be available for all your gardening questions.Free garden info and magnets.Garden books FOR SALE.All donations go towards helping the Master Gardener Volunteers educate the public on home gardening.&amp;nbsp;
CLASS:PUBLIC
CATEGORIES:
STATUS:CONFIRMED
END:VEVENT
END:VCALENDAR
n/a